Workbook
Name PartnerId: IFERROR(MATCH("Administrator",[1]!Partnere[SystemSagRolleEnum],0),"")

Sheet Ark1
A2: Sagsnummer: | B2: =IF(ISBLANK(C2),"xxxx-xxxxxB",C2) -> xxxx-xxxxxB | D2: Virksomhed: | E2: =IF(ISBLANK(F2),"Indtast navn",F2) -> Indtast navn
A3: Forløbstart: | B3: =IF(ISBLANK(C3),"dd-mm-yy",C3) -> dd-mm-yy | D3: CVR-nr. | E3: =IF(ISBLANK(F3),"Indtast CVR",F3) -> Indtast CVR
A4: Forløbslut: | B4: =IF(ISBLANK(C4),"dd-mm-yy",C4) -> dd-mm-yy
A6: Innofounder #1
A7: Navn: | B7: =IF(ISBLANK(C7),"Indtast navn",C7) -> Indtast navn
A8: Forløb start: | B8: =IF(ISBLANK(C8),"dd-mm-yy",C8) -> dd-mm-yy
A9: Forløb slut: | B9: =IF(ISBLANK(C9),"dd-mm-yy",C9) -> dd-mm-yy
A11: Innofounder #2 (hvis relevant)
A12: Navn: | B12: =IF(ISBLANK(C12),"Indtast navn",C12) -> Indtast navn
A13: Forløb start: | B13: =IF(ISBLANK(C13),"dd-mm-yy",C13) -> dd-mm-yy
A14: Forløb slut: | B14: =IF(ISBLANK(C14),"dd-mm-yy",C14) -> dd-mm-yy
A16: Innofounder #3 (hvis relevant)
A17: Navn: | B17: =IF(ISBLANK(C17),"Indtast navn",C17) -> Indtast navn
A18: Forløb start: | B18: =IF(ISBLANK(C18),"dd-mm-yy",C18) -> dd-mm-yy
A19: Forløb slut: | B19: =IF(ISBLANK(C19),"dd-mm-yy",C19) -> dd-mm-yy
A21: Slutregnskab datoer og frist
A22: Frist for insendelse af slutregnskab | C22: 44012
C24: BEVILLINGSBUDGET
A25: Udbetalt bevilling | C25: Samlet bevilling | D25: Særlig tilskud | F25: Månedlig ydelse
A26: =A6 -> Innofounder #1 | C26: =SUM(D26:F26) -> 0 | D26: =IF(ISBLANK(C9),0,'Ark2'!B3) -> 0 | F26: =IF(ISBLANK(C9),0,((YEAR(C9)-YEAR(C8))*12+(MONTH(C9)-MONTH(C8)+1))*'Ark2'!B2) -> 0
A27: =A11 -> Innofounder #2 (hvis relevant) | C27: =SUM(D27:F27) -> 0 | D27: =IF(ISBLANK(C14),0,'Ark2'!B3) -> 0 | F27: =IF(ISBLANK(C14),0,((YEAR(C14)-YEAR(C13))*12+(MONTH(C14)-MONTH(C13)+1))*'Ark2'!B2) -> 0
A28: =A16 -> Innofounder #3 (hvis relevant) | C28: =SUM(D28:F28) -> 0 | D28: =IF(ISBLANK(C19),0,'Ark2'!B3) -> 0 | F28: =IF(ISBLANK(C19),0,((YEAR(C19)-YEAR(C18))*12+(MONTH(C19)-MONTH(C18)+1))*'Ark2'!B2) -> 0
A29: I alt | C29: =IF(SUM(C26:C28)=0,"",SUM(C26:C28)) | D29: =IF(SUM(D26:D28)=0,"",SUM(D26:D28)) | F29: =IF(SUM(F26:F28)=0,"",SUM(F26:F28))
A33: Udgifter afholdt for det særlige tilskud. Indel i de tre kategorier | F33: Omkostning
A35: Eksempel: Konsulentydelse - Produktudvikling | F35: Logodesign.dk | G35: 1
A36: Udstyr | F36: 0
A37: Andre udgifter (events, rejser etc.) | F37: 0
A38: Eksterne ydelser (f.eks. Konsulent) | F38: 0
A39: Total | F39: =IF(SUM(F36:G38)=0,"",SUM(F36:G38))
A40: Ubenyttet særligt tilskud | F40: =IF(F39="","",D29-F39)

Sheet Ark2
A2: Månedligydelse | B2: 30000
A3: Særligttilskud | B3: 100000
